BEGIN:VCALENDAR
VERSION:2.0
CALSCALE:GREGORIAN
BEGIN:VEVENT
SUMMARY:Yin Yoga (zomerrooster)
DTSTART;TZID=Europe/Amsterdam:20250724T193000
DTEND;TZID=Europe/Amsterdam:20250724T210000
LOCATION:Bilderdijkstraat 78
DESCRIPTION: 
STATUS:CONFIRMED
SEQUENCE:0
END:VEVENT
END:VCALENDAR