BEGIN:VCALENDAR
VERSION:2.0
CALSCALE:GREGORIAN
BEGIN:VEVENT
SUMMARY:[7/8] Start to Heal - hart healing ritueel met Adriana
DTSTART;TZID=Europe/Brussels:20221118T193000
DTEND;TZID=Europe/Brussels:20221118T210000
LOCATION:adYogini yoga studio, Martelarenstraat 43 in Aarschot
DESCRIPTION: Je kan deze les ook los volgen. Prijs €20

Voor de tweede maal organiseert Adriana deze reeks originele &quot;start to&#039;s&quot;.
De eerste editie was een groot succes en de deelnemers waren laaiend enthousiast!

Wat komt er zoal aan bod?
een les over: detox, voetreflexologie, yoga, ademhalingstechnieken, energie en chakra&#039;s, meditatie, hart healing en chanten

Prijs €150 voor de reeks van 8 lessen
STATUS:CONFIRMED
SEQUENCE:0
END:VEVENT
END:VCALENDAR