BEGIN:VCALENDAR
VERSION:2.0
CALSCALE:GREGORIAN
BEGIN:VEVENT
SUMMARY:Nieuwe Maan Ceremonie
DTSTART;TZID=Europe/Brussels:20230419T200000
DTEND;TZID=Europe/Brussels:20230419T214500
LOCATION:hotel Amethist, Gust Vandenheuvelstraat 132, 2230 Ramsel
DESCRIPTION: de nieuwe maan is het idéale moment om nieuwe intenties te plaatsen
ik begeleid je daar heel graag in tijdens dit mooie ritueel

we bewegen, we mediteren, we ademen, we schrijven, we planten letterlijk een zaadje voor onze intentie en we sluiten af met een theetje

breng je eigen yogamatje mee, een dekentje, een schriftje + pen én een beker voor thee

je krijgt van mij een geschenkje mee naar huis om zorg voor te dragen en te zien groeien 

prijs 30 EURO
STATUS:CONFIRMED
SEQUENCE:0
END:VEVENT
END:VCALENDAR