BEGIN:VCALENDAR
VERSION:2.0
CALSCALE:GREGORIAN
BEGIN:VEVENT
SUMMARY:Yoga &amp; Healing Brunch
DTSTART;TZID=Europe/Brussels:20230521T090000
DTEND;TZID=Europe/Brussels:20230521T130000
LOCATION:centrum Kumtich
DESCRIPTION: te best way to spend your sunday!

we starten met een activerende yogales om onze energie in beweging te krijgen, gevolgd door een heerlijke brunch geserveerd door Derya. we brunchen Pinterest-style outdoors, ingekleed door Nuray van Atelier Hill.

We sluiten af met een healingsessie in groep, waarbij we ruimte maken voor de vrijgekomen energie en emoties. je wordt gedragen door de veiligheid en koestering van Adriana én de groep.

PRIJS € 85 all in

mystery location - de exacte locatie wordt enkele dagen voordien bekendgemaakt (centrum Kumtich)

Breng jouw yogamat mee (indien je dat hebt, indien niet, geef een seintje), een kussen en een dekentje.
STATUS:CONFIRMED
SEQUENCE:0
END:VEVENT
END:VCALENDAR