BEGIN:VCALENDAR
VERSION:2.0
CALSCALE:GREGORIAN
BEGIN:VEVENT
SUMMARY:Rückenyoga
DTSTART;TZID=Europe/Berlin:20260217T183000
DTEND;TZID=Europe/Berlin:20260217T194500
LOCATION:Aktiv Bewegen Steinenbronn
DESCRIPTION: Dieser Kurs legt den Schwerpunkt auf den Rumpf. Sowohl die Rückenmuskulatur als auch die Bauchmuskulatur werden durch gezielte Übungen gestärkt und gleichzeitig flexibel gehalten. So werden Schmerzen im Rücken gelindert und vorgebeugt.
STATUS:CONFIRMED
SEQUENCE:0
END:VEVENT
END:VCALENDAR