BEGIN:VCALENDAR
VERSION:2.0
CALSCALE:GREGORIAN
BEGIN:VEVENT
SUMMARY:Atelier Tarot – Entrez dans l&#039;année 2026 !
DTSTART;TZID=Europe/Amsterdam:20260111T160000
DTEND;TZID=Europe/Amsterdam:20260111T180000
LOCATION:Alma Yoga
DESCRIPTION: Venez explorer les énergies qui guideront votre année 2026 ! Nous réaliserons ensemble le tirage de la roue de l&#039;année : un tirage en 12 cartes, un pour chaque mois, pour découvrir les messages que le tarot a à vous offrir. Chaque carte vous proposera une réflexion à explorer, une énergie ou une qualité à cultiver, pour vous guider mois par mois dans votre année et dans votre évolution.

Je vous initierai à la lecture d’un tirage et vous accompagnerai dans l’interprétation de vos cartes, en vous aidant à comprendre leurs significations et à les connecter à vos aspirations et défis personnels. 

Une opportunité de se retrouver, d&#039;échanger autour des cartes, et de trouver de l&#039;inspiration, de la clarté et de la confiance grâce au tarot pour bien commencer l&#039;année !

Tarif : 25 euros pour les adhérent·e·s, 30 euros pour les autres.
STATUS:CONFIRMED
SEQUENCE:0
END:VEVENT
END:VCALENDAR