BEGIN:VCALENDAR
VERSION:2.0
CALSCALE:GREGORIAN
BEGIN:VEVENT
SUMMARY:Ashtanga dirigé mais adapté
DTSTART;TZID=Europe/Paris:20250503T100000
DTEND;TZID=Europe/Paris:20250503T111500
LOCATION:Amaté
DESCRIPTION: Pour commencer le week-end  de bonne humeur… une séance revigorante avec Angélique ou Béatriz.
Nous travaillons la série 1ère série Ashtanga Vinyasa enchainée avec plus ou moins d’explications en fonction du profil des élèves.
STATUS:CONFIRMED
SEQUENCE:0
END:VEVENT
END:VCALENDAR