BEGIN:VCALENDAR
VERSION:2.0
CALSCALE:GREGORIAN
BEGIN:VEVENT
SUMMARY:Yoga Iyengar
DTSTART;TZID=Europe/Paris:20251215T180000
DTEND;TZID=Europe/Paris:20251215T190000
LOCATION:Amaté
DESCRIPTION: Un apprentissage précis et en profondeur des postures pour une base solide dans la pratique du yoga.
STATUS:CONFIRMED
SEQUENCE:0
END:VEVENT
END:VCALENDAR