BEGIN:VCALENDAR
VERSION:2.0
CALSCALE:GREGORIAN
BEGIN:VEVENT
SUMMARY:dag 2 van de basismodule
DTSTART;TZID=Europe/Brussels:20250927T100000
DTEND;TZID=Europe/Brussels:20250927T163000
LOCATION:amba-amba
DESCRIPTION: 
STATUS:CONFIRMED
SEQUENCE:0
END:VEVENT
END:VCALENDAR