BEGIN:VCALENDAR
VERSION:2.0
CALSCALE:GREGORIAN
BEGIN:VEVENT
SUMMARY:Lesmodule: Kindermeditatie
DTSTART;TZID=Europe/Brussels:20251122T100000
DTEND;TZID=Europe/Brussels:20251122T163000
LOCATION:amba-amba
DESCRIPTION: Een gaatje maken in de tijd. Rust en ruimte geven aan kinderen. Het gaat om kleine momenten van bewust aanwezig zijn en er zo voor zorgen dat het kind even (opnieuw) contact kan maken met zijn innerlijke zelf.

Door meditatie kun je komen bij de stille plek in jezelf, even weg van de drukte om je heen, maar ook van de drukte in jezelf. Even helemaal niets, geen herinneringen, geen moeten. Het goede nieuws is dat de pauze-knop nergens verstopt zit en ook niet moeilijk te activeren is. Hij kan overal waar je maar bent gewoon ingedrukt worden.
STATUS:CONFIRMED
SEQUENCE:0
END:VEVENT
END:VCALENDAR