BEGIN:VCALENDAR
VERSION:2.0
CALSCALE:GREGORIAN
BEGIN:VEVENT
SUMMARY:Lesmodule: Evaluatie
DTSTART;TZID=Europe/Brussels:20260228T100000
DTEND;TZID=Europe/Brussels:20260228T163000
LOCATION:amba-amba
DESCRIPTION: Vier jouw magische reis
Is je stempelkaart helemaal vol?

Met andere woorden, volgde je alle modules van de kinderyoga-opleiding, dan sluit je het traject af met deze evaluatiedag. Het wordt een eigen-wijze dag, een feestje...

Deze bijzondere dag staat helemaal in het teken van reflectie en vieren van behaalde successen. Samen zullen we ervaringen delen, de geleerde technieken evalueren en de impact van kinderyoga bespreken. Het is een unieke gelegenheid om jezelf te ondersteunen, anderen te inspireren en verder te groeien als kinderyogadocent.
Vier met ons jouw reis vol magie en transformatie

Neem om je in te schrijven contact op met ons!
STATUS:CONFIRMED
SEQUENCE:0
END:VEVENT
END:VCALENDAR