BEGIN:VCALENDAR
VERSION:2.0
CALSCALE:GREGORIAN
BEGIN:VEVENT
SUMMARY:Hatha Yoga
DTSTART;TZID=Europe/Paris:20250827T181500
DTEND;TZID=Europe/Paris:20250827T191500
LOCATION:Amélie Yoga
DESCRIPTION: Au Cœur Du Soi 
53 rue Renaise 53000 Laval
STATUS:CONFIRMED
SEQUENCE:0
END:VEVENT
END:VCALENDAR