BEGIN:VCALENDAR
VERSION:2.0
CALSCALE:GREGORIAN
BEGIN:VEVENT
SUMMARY:Sonnengruss-Flow
DTSTART;TZID=Europe/Zurich:20250619T080000
DTEND;TZID=Europe/Zurich:20250619T090000
LOCATION:Luzernerstrasse 2, 6010 Kriens
DESCRIPTION: Outdoor im Kleinfeld Kriens
STATUS:CONFIRMED
SEQUENCE:0
END:VEVENT
END:VCALENDAR