BEGIN:VCALENDAR
VERSION:2.0
CALSCALE:GREGORIAN
BEGIN:VEVENT
SUMMARY:Vinyasa Tantra Yoga
DTSTART;TZID=America/Santiago:20250605T120000
DTEND;TZID=America/Santiago:20250605T130000
LOCATION:
DESCRIPTION: Práctica que integra el movimiento fluido del vinyasa con los principios energéticos del Tantra, conectándonos con la energía vital, cultivando fuerza y fluidez. Clase alternada por Claudia Vallejos y Alison Quigley.
STATUS:CONFIRMED
SEQUENCE:0
END:VEVENT
END:VCALENDAR