BEGIN:VCALENDAR
VERSION:2.0
CALSCALE:GREGORIAN
BEGIN:VEVENT
SUMMARY:Clase de Prueba Fit Yoga
DTSTART;TZID=America/Santiago:20250608T100000
DTEND;TZID=America/Santiago:20250608T110000
LOCATION:Anahata Lodge
DESCRIPTION: FIT YOGA🏋🏻‍♀️🧘🏻‍♀️
✅Fuerza/Flexibilidad
✅Intensidad/Calma
✅Cuerpo físico/cuerpo sutil
✨ Entrenamos con la intensidad de una clase FIT y con la sutileza del Yoga✨
✨Clase de prueba gratis, por única vez✨

📆 Domingo 8 de junio
⏰10 hrs.
Cupos limitados! 
Reserva el tuyo 📲 +569 54010113
STATUS:CONFIRMED
SEQUENCE:0
END:VEVENT
END:VCALENDAR