BEGIN:VCALENDAR
VERSION:2.0
CALSCALE:GREGORIAN
BEGIN:VEVENT
SUMMARY:Einzelsession mit Céline
DTSTART;TZID=Europe/Zurich:20260219T103000
DTEND;TZID=Europe/Zurich:20260219T113000
LOCATION:Moosstrasse 8, 6003 Luzern
DESCRIPTION: Ich freue mich, dich individuell auf deinem Weg zu begleiten und dich in deinem persönlichen Wachstum zu unterstützen.

Meine Angebote:
Yogatherapie (prozessorientiert)
Private Yoga-Stunde
Atemcoaching (prozessorientiert)
Vegane Ernährungsberatung
Lebenscoaching – Lösungs- und kompetenzorientierte Beratung (prozessorientiert)
Mehr Infos findest du auf meiner Website: anandayogaluzern.ch

Ich bin krankenkassenanerkannt. Meine ZSR-Nummer lautet: J538764 (kläre gern bei deiner Zusatzversicherung, ob sie Yogatherapie übernehmen.)
STATUS:CONFIRMED
SEQUENCE:0
END:VEVENT
END:VCALENDAR