BEGIN:VCALENDAR
VERSION:2.0
CALSCALE:GREGORIAN
BEGIN:VEVENT
SUMMARY:Yoga de la Voix Porte Ouverte
DTSTART;TZID=Europe/Paris:20250920T160000
DTEND;TZID=Europe/Paris:20250920T164500
LOCATION:62 rue Son Tay, Villeurbanne, Anandii Yoga
DESCRIPTION: Yoga de la Voix – séance découverte (45 min)
Une exploration vibratoire mêlant souffle, sons et résonance intérieure. Par la voix, on libère les tensions, on ouvre l’espace du cœur et on équilibre les centres d’énergie. Une pratique sensible et profonde, accessible à tous, sans besoin de &quot;savoir chanter&quot;.
STATUS:CONFIRMED
SEQUENCE:0
END:VEVENT
END:VCALENDAR