BEGIN:VCALENDAR
VERSION:2.0
CALSCALE:GREGORIAN
BEGIN:VEVENT
SUMMARY:Buitenles Zypendaal
DTSTART;TZID=Europe/Amsterdam:20200707T173000
DTEND;TZID=Europe/Amsterdam:20200707T184500
LOCATION:ANNA Yoga
DESCRIPTION: Buitenles op het grasveld naast kasteel Zypendaal, Zijpendaalseweg 44 voor de grote rode beuk. Neem je eigen matje, dekentje, zitkussen, bankje etc. mee. Deze les kan geboekt worden door cursisten van Yoga Namah en van ANNA Yoga. Bij lichte regen zitten we onder de bomen. Bij harde regen en wind gaat de les door in de zaal op de Kastanjelaan 33.
STATUS:CONFIRMED
SEQUENCE:0
END:VEVENT
END:VCALENDAR