BEGIN:VCALENDAR
VERSION:2.0
CALSCALE:GREGORIAN
BEGIN:VEVENT
SUMMARY:Yoga online
DTSTART;TZID=Europe/Amsterdam:20201111T193000
DTEND;TZID=Europe/Amsterdam:20201111T204500
LOCATION:&#039;t Duifje
DESCRIPTION: Vandaag voor het eerst een &#039;gewone&#039; yogales via zoom. Ik ben heel benieuwd hoe het voor ons gaat zijn langs deze weg. Ik heb er in elk geval zin in! Als je je inschrijft krijg je de zoom-link automatisch 30 minuten voor de les in je mailbox. De mail kan in je spam terecht komen, dus kijk daar ook even als je geen mail ziet. Als boeken niet lukt omdat je nog geen abonnement hebt, kies dan voor de optie proefles. Als je met je sportkaart mee wilt doen stuur je me van tevoren een appje (0613704509) met daarin een afbeelding van de voor en achterkant van je sportkaart. Leuk als je meedoet! 

OM shaantih, 
Janneke
STATUS:CONFIRMED
SEQUENCE:0
END:VEVENT
END:VCALENDAR