BEGIN:VCALENDAR
VERSION:2.0
CALSCALE:GREGORIAN
BEGIN:VEVENT
SUMMARY:Yoga in het Duifje
DTSTART;TZID=Europe/Amsterdam:20201202T201500
DTEND;TZID=Europe/Amsterdam:20201202T213000
LOCATION:&#039;t Duifje
DESCRIPTION: Integrale yoga waarin je een evenwichtige mix krijgt van losmaakoefeningen, kriya (ontspannen bewegen op het ritme van de adem), aasana (yogahoudingen), praanaayaama (adem oefeningen) en yoga nidraa (ontspanning). Natuurlijk ook stukjes en beetjes uit de oude Yoga filosofie om gedurende de week nog eens te overwegen.

We zitten in de bovenzaal van het Duifje. Het aantal beschikbare plaatsen is door de opgelegde maatregelen maximaal 9. Als je niet komt, schrijf je dan graag zo vroeg mogelijk uit zodat iemand anders deel kan nemen. Lukt het uitschrijven niet? Stuur me even een appje: 06-13704509. Dank je wel!

groetjes,
Janneke
STATUS:CONFIRMED
SEQUENCE:0
END:VEVENT
END:VCALENDAR