BEGIN:VCALENDAR
VERSION:2.0
CALSCALE:GREGORIAN
BEGIN:VEVENT
SUMMARY:Yoga na het werk
DTSTART;TZID=Europe/Amsterdam:20201012T173000
DTEND;TZID=Europe/Amsterdam:20201012T184500
LOCATION:Anna Yoga
DESCRIPTION: De nadruk ligt op het loslaten van de spanning van de dag door bewust met het lichaam bezig te zijn.  In deze lessen zijn de houdingen wat moeilijker en het tempo ligt iets hoger dan in de andere lessen.
STATUS:CONFIRMED
SEQUENCE:0
END:VEVENT
END:VCALENDAR