BEGIN:VCALENDAR
VERSION:2.0
CALSCALE:GREGORIAN
BEGIN:VEVENT
SUMMARY:Zaal is open om zelf te oefenen
DTSTART;TZID=Europe/Amsterdam:20201116T173000
DTEND;TZID=Europe/Amsterdam:20201116T184500
LOCATION:Anna Yoga
DESCRIPTION: De zaal is open voor wie graag zelf wil oefenen in de prettige en ontspannen sfeer van de zaal, te midden van enkele mede yogi&#039;s. Er wordt géén les gegeven! De nieuwste corona regels hebben ons naar deze nieuwe vorm van samenkomen gebracht. We verwachten dat de yogi&#039;s die aan het oefenen zijn, zich vanzelf met elkaar zullen gaan verbinden op een manier waarbij uiterlijk contact volstrekt overbodig is. Heb je zin om mee te doen aan dit experiment?
STATUS:CONFIRMED
SEQUENCE:0
END:VEVENT
END:VCALENDAR