BEGIN:VCALENDAR
VERSION:2.0
CALSCALE:GREGORIAN
BEGIN:VEVENT
SUMMARY:Yoga in het park, voorlopig de laatste keer buiten!
DTSTART;TZID=Europe/Amsterdam:20201013T173000
DTEND;TZID=Europe/Amsterdam:20201013T184500
LOCATION:Anna Yoga
DESCRIPTION: Buitenles op het grasveld naast kasteel Zypendaal, Zijpendaalseweg 44 voor de grote rode beuk. Neem je eigen matje, dekentje, zitkussen, bankje etc. mee. Bij lichte regen zitten we onder de bomen. Zodra het te koud, nat of te donker gaat worden, verhuist deze les naar binnen in de zaal van Anna Yogacentrum, Kastanjelaan 33. Als je hier niets anders ziet staan gaat de les buiten door.
STATUS:CONFIRMED
SEQUENCE:0
END:VEVENT
END:VCALENDAR