BEGIN:VCALENDAR
VERSION:2.0
CALSCALE:GREGORIAN
BEGIN:VEVENT
SUMMARY:Zondag yoga met Nelly
DTSTART;TZID=Europe/Amsterdam:20201213T093000
DTEND;TZID=Europe/Amsterdam:20201213T104500
LOCATION:Anna Yoga
DESCRIPTION: Zin in een yogales? Elke zondagochtend kun je zo meedoen met onze themalessen van 9.30 - 10.45u. Iedere maand staat er een onderwerp uit de yogafilosofie centraal. Zo&#039;n onderwerp nodigt uit om bewuster te worden van hoe we leven, hoe we met elkaar en onze omgeving omgaan en van onze verwachtingen. De lessen zijn geschikt voor beginnende en gevorderde yogi&#039;s.

In de maand december is het thema 
WEES EEN LICHT VOOR JEZELF
STATUS:CONFIRMED
SEQUENCE:0
END:VEVENT
END:VCALENDAR