BEGIN:VCALENDAR
VERSION:2.0
CALSCALE:GREGORIAN
BEGIN:VEVENT
SUMMARY:Yoga en meditatie
DTSTART;TZID=Europe/Amsterdam:20201109T190000
DTEND;TZID=Europe/Amsterdam:20201109T194500
LOCATION:Anna Yoga
DESCRIPTION: Maak je hoofd leeg en vul je hart met deze korte, intensieve les
STATUS:CONFIRMED
SEQUENCE:0
END:VEVENT
END:VCALENDAR