BEGIN:VCALENDAR
VERSION:2.0
CALSCALE:GREGORIAN
BEGIN:VEVENT
SUMMARY:Privé Yogatherapie
DTSTART;TZID=Europe/Amsterdam:20210907T121500
DTEND;TZID=Europe/Amsterdam:20210907T134500
LOCATION:Tuinkamer, Doelenstraat 28a
DESCRIPTION: LET OP: een Yogatherapiesessie is alleen te boeken na (online) kennismaking en dient 24 uur van tevoren geboekt te worden!

Sessies vinden (met inachtneming van de Corona maatregelen) plaats in mijn praktijk in Utrecht of in overleg online.
STATUS:CONFIRMED
SEQUENCE:0
END:VEVENT
END:VCALENDAR