BEGIN:VCALENDAR
VERSION:2.0
CALSCALE:GREGORIAN
BEGIN:VEVENT
SUMMARY:Privé Restorative / Yogatherapie Sessie
DTSTART;TZID=Europe/Amsterdam:20200821T191500
DTEND;TZID=Europe/Amsterdam:20200821T204500
LOCATION:Buitenlessen: Saffierlaan 10 in Utrecht. Online lessen via Zoom (je ontvangt hiervoor een link een half uur voor aanvang). Privé lessen in de Bilt.
DESCRIPTION: 
STATUS:CONFIRMED
SEQUENCE:0
END:VEVENT
END:VCALENDAR