BEGIN:VCALENDAR
VERSION:2.0
CALSCALE:GREGORIAN
BEGIN:VEVENT
SUMMARY:Yoga &amp; omgaan met stress
DTSTART;TZID=Europe/Amsterdam:20210224T200000
DTEND;TZID=Europe/Amsterdam:20210224T213000
LOCATION:Online
DESCRIPTION: Dat yoga een positieve invloed kan hebben op je stress-level is je vast al bekend. Maar hoe werkt dat eigenlijk precies in je lijf? Welke processen zet yoga in gang? Hoe kunnen we de Nervus Vagus (een hersenzenuw gerelateerd aan ontspanning) stimuleren?

In deze sessie krijg je vooral handvatten voor het dagelijks leven. Zo gaan we aan de slag met (korte) oefeningen die je in het dagelijks leven kunt toepassen als je stress ervaart. Dus niet alleen yoga op de mat, maar ook in de dagelijkse praktijk!
STATUS:CONFIRMED
SEQUENCE:0
END:VEVENT
END:VCALENDAR