BEGIN:VCALENDAR
VERSION:2.0
CALSCALE:GREGORIAN
BEGIN:VEVENT
SUMMARY:WAKE UP YOGA FLOW - vor Ort
DTSTART;TZID=Europe/Berlin:20251212T080000
DTEND;TZID=Europe/Berlin:20251212T090000
LOCATION:Khôra Studio, Eimsbütteler Chaussee 37a, Hamburg
DESCRIPTION: Starte den letzten Tag der Woche mit Schwung und Energie, die Dich direkt ins Wochenende trägt.
Der Fokus dieser Klasse liegt auf energetisierenden Abfolgen und Haltungen. Yogaerfahrung ist von Vorteil, aber nicht notwendig.
STATUS:CONFIRMED
SEQUENCE:0
END:VEVENT
END:VCALENDAR