BEGIN:VCALENDAR
VERSION:2.0
CALSCALE:GREGORIAN
BEGIN:VEVENT
SUMMARY:XMAS YIN - online
DTSTART;TZID=Europe/Berlin:20251213T140000
DTEND;TZID=Europe/Berlin:20251213T153000
LOCATION:Khôra Studio, Eimsbütteler Chaussee 37a, Hamburg
DESCRIPTION: Entspanne beim adventlichen Yin Yoga direkt in Deinem Wohnzimmer. Der beste Weg, um dem Vorweihnachtsstress ein Schnippchen zu schlagen.
STATUS:CONFIRMED
SEQUENCE:0
END:VEVENT
END:VCALENDAR