BEGIN:VCALENDAR
VERSION:2.0
CALSCALE:GREGORIAN
BEGIN:VEVENT
SUMMARY:One to One
DTSTART;TZID=Europe/London:20230207T160000
DTEND;TZID=Europe/London:20230207T170000
LOCATION:57 Queen Charlotte Street, Bristol BS1 4HQ
DESCRIPTION: These sessions are good if you would like to improve and understand issues you may have in your body and how this relates to yoga. 

They can also be booked if you are struggling with an injury or illness. 

This session can only be booked if you have contacted Annemarie and discussed the session beforehand.
STATUS:CONFIRMED
SEQUENCE:0
END:VEVENT
END:VCALENDAR