BEGIN:VCALENDAR
VERSION:2.0
CALSCALE:GREGORIAN
BEGIN:VEVENT
SUMMARY:🔥 hot vinyasa 🥵
DTSTART;TZID=Europe/Paris:20250813T193000
DTEND;TZID=Europe/Paris:20250813T203000
LOCATION:Yog studio
DESCRIPTION: Flow intense de vinyasa à la Chaleur 
Les personnes avec des maladies cardiovasculaires ne sont pas acceptées ni les femmes enceintes
STATUS:CONFIRMED
SEQUENCE:0
END:VEVENT
END:VCALENDAR