BEGIN:VCALENDAR
VERSION:2.0
CALSCALE:GREGORIAN
BEGIN:VEVENT
SUMMARY:Weihnachts-Yoga
DTSTART;TZID=Europe/Zurich:20241221T150000
DTEND;TZID=Europe/Zurich:20241221T160000
LOCATION:Anvaya-Yoga in Kleindöttingen
DESCRIPTION: Die Weihnachtsgeschichte in eine Yogastunde verpackt, um sich wunderbar auf die Feiertag einzustimmen.

Der gesamte Beitrag für diese Lektion geht ans AWZ, Kleindöttingen
STATUS:CONFIRMED
SEQUENCE:0
END:VEVENT
END:VCALENDAR