BEGIN:VCALENDAR
VERSION:2.0
CALSCALE:GREGORIAN
BEGIN:VEVENT
SUMMARY:Pilates
DTSTART;TZID=Europe/Zurich:20241123T140000
DTEND;TZID=Europe/Zurich:20241123T143000
LOCATION:Anvaya-Yoga in Kleindöttingen
DESCRIPTION: Lernen Sie Pilates kennen.
STATUS:CONFIRMED
SEQUENCE:0
END:VEVENT
END:VCALENDAR