BEGIN:VCALENDAR
VERSION:2.0
CALSCALE:GREGORIAN
BEGIN:VEVENT
SUMMARY:Biodynamische Craniosacraltherapie Sitzung
DTSTART;TZID=Europe/Zurich:20241220T160000
DTEND;TZID=Europe/Zurich:20241220T170000
LOCATION:Anvaya-Yoga in Kleindöttingen
DESCRIPTION: 
STATUS:CONFIRMED
SEQUENCE:0
END:VEVENT
END:VCALENDAR