BEGIN:VCALENDAR
VERSION:2.0
CALSCALE:GREGORIAN
BEGIN:VEVENT
SUMMARY:Stretching
DTSTART;TZID=Europe/Zurich:20261114T140000
DTEND;TZID=Europe/Zurich:20261114T170000
LOCATION:Anvaya-Center in Kleindöttingen
DESCRIPTION: In diesem Workshop werden diverse Dehnübungen angeschaut und für die Teilnehmer auch individuell angepasst und geübt.

Es werden die unterschiedlichen Stretchingvarianten gelernt und auf was man alles dabei achten muss.

Der Workshop ist für Anfänger wie für Fortgeschrittene.
STATUS:CONFIRMED
SEQUENCE:0
END:VEVENT
END:VCALENDAR