BEGIN:VCALENDAR
VERSION:2.0
CALSCALE:GREGORIAN
BEGIN:VEVENT
SUMMARY:spätere Abendstunde
DTSTART;TZID=Europe/Zurich:20211124T184500
DTEND;TZID=Europe/Zurich:20211124T194500
LOCATION:Neuhof, Wiedenstrasse 52
DESCRIPTION: Den Abend ausklingen lassen mit Yoga. Sorgt für besseren Schlaf, Gesundheit und Wohlbefinden und hält deinen Körper geschmeidig.

Durch Anspannung und Dehnung des Lendendarmbeinmuskels werden sensible Nerven im Muskel und der Haut stimuliert. Eine Energetisierung des 2. Chakras ist die Folge = schöpferische Entfaltung u. Lebenslust.

Mitnehmen: Yogamatte 
(Optional: Decke, Yogakissen, Yogablock, Yogagurt)
STATUS:CONFIRMED
SEQUENCE:0
END:VEVENT
END:VCALENDAR