BEGIN:VCALENDAR
VERSION:2.0
CALSCALE:GREGORIAN
BEGIN:VEVENT
SUMMARY:spätere Abendstunde
DTSTART;TZID=Europe/Zurich:20211215T184500
DTEND;TZID=Europe/Zurich:20211215T194500
LOCATION:Neuhof, Wiedenstrasse 52
DESCRIPTION: Den Abend ausklingen lassen mit Yoga. Heute mit einer Traumreise - sie beflügelt unsere Sinne und Kreativität und schöpft Kraft. 

Mitnehmen: Yogamatte, warme Kleidung u. evtl. Decke


Abmeldung: bis 2h vor Stundenbeginn möglich
STATUS:CONFIRMED
SEQUENCE:0
END:VEVENT
END:VCALENDAR