BEGIN:VCALENDAR
VERSION:2.0
CALSCALE:GREGORIAN
BEGIN:VEVENT
SUMMARY:Pregnancy Yoga
DTSTART;TZID=Europe/London:20260701T193000
DTEND;TZID=Europe/London:20260701T204500
LOCATION:The Botley Centre
DESCRIPTION: Lovely pregnancy yoga :-) 

Bring your mat, a cushion, and get ready to stretch and relax...
STATUS:CONFIRMED
SEQUENCE:0
END:VEVENT
END:VCALENDAR