BEGIN:VCALENDAR
VERSION:2.0
CALSCALE:GREGORIAN
BEGIN:VEVENT
SUMMARY:Hypnobirthing day 1 for Georgie
DTSTART;TZID=Europe/London:20260103T100000
DTEND;TZID=Europe/London:20260103T160000
LOCATION:--
DESCRIPTION: 
STATUS:CONFIRMED
SEQUENCE:0
END:VEVENT
END:VCALENDAR