BEGIN:VCALENDAR
VERSION:2.0
CALSCALE:GREGORIAN
BEGIN:VEVENT
SUMMARY:Jivamukti Open
DTSTART;TZID=Europe/Zurich:20251213T100000
DTEND;TZID=Europe/Zurich:20251213T113000
LOCATION:energyoga, Mandachstrasse 52, 8155 Niederhasli
DESCRIPTION: Jivamukti Yoga betont die energetisch und körperlich sinnvoll aufgebauten Asana-Sequenzen mit dem Fokus auf der Einheit von Bewegung und Atmung im Vinyasa-Stil. Aber auch Praktiken wie Chanting, Meditation und Yogaphilosophie spielen eine wichtige Rolle und machen Jivamukti zu einer ganzheitlichen Yogapraxis. Diese Klasse bietet dir immer Varianten damit du auf deinem Level üben kannst.
STATUS:CONFIRMED
SEQUENCE:0
END:VEVENT
END:VCALENDAR