BEGIN:VCALENDAR
VERSION:2.0
CALSCALE:GREGORIAN
BEGIN:VEVENT
SUMMARY:End of Year Class 10.00 – 12.00 Uhr
DTSTART;TZID=Europe/Zurich:20251227T100000
DTEND;TZID=Europe/Zurich:20251227T120000
LOCATION:energyoga, Mandachstrasse 52, 8155 Niederhasli
DESCRIPTION: Yoga-Klasse zum Jahresabschluss und letzte Samstagsklasse in Niederhasli 🙏
STATUS:CONFIRMED
SEQUENCE:0
END:VEVENT
END:VCALENDAR