BEGIN:VCALENDAR
VERSION:2.0
CALSCALE:GREGORIAN
BEGIN:VEVENT
SUMMARY:JIVAMUKTI OPEN YOTREE ZÜRICH
DTSTART;TZID=Europe/Zurich:20260113T190000
DTEND;TZID=Europe/Zurich:20260113T201500
LOCATION:Yotree Studio, Im eisernen Zeit 1, 8006 Zürich
DESCRIPTION: Jivamukti Yoga betont die energetisch und körperlich sinnvoll aufgebauten Asana-Sequenzen mit dem Fokus auf der Einheit von Bewegung und Atmung im Vinyasa-Stil. Aber auch Praktiken wie Chanting, Meditation und Yogaphilosophie spielen eine wichtige Rolle und machen Jivamukti zu einer ganzheitlichen Yogapraxis. Diese Klasse bietet dir immer Varianten damit du auf deinem Level üben kannst.
STATUS:CONFIRMED
SEQUENCE:0
END:VEVENT
END:VCALENDAR