BEGIN:VCALENDAR
VERSION:2.0
CALSCALE:GREGORIAN
BEGIN:VEVENT
SUMMARY:Yoga Open mit Rahel Niederhasli
DTSTART;TZID=Europe/Zurich:20260225T180000
DTEND;TZID=Europe/Zurich:20260225T193000
LOCATION:energyoga, Mandachstrasse 52, 8155 Niederhasli
DESCRIPTION: Yoga Open ist eine holistische Yoga-Klasse und betont die energetisch und körperlich sinnvoll aufgebauten Asana-Sequenzen mit dem Fokus auf der Einheit von Bewegung und Atmung im Vinyasa-Stil. Aber auch Praktiken wie Mantra-Chanting, Meditation und Yogaphilosophie spielen eine wichtige Rolle und machen diese Klasse zu einer ganzheitlichen Erfahrung. Diese Klasse bietet dir immer Varianten damit du auf deinem Level üben kannst.
STATUS:CONFIRMED
SEQUENCE:0
END:VEVENT
END:VCALENDAR