BEGIN:VCALENDAR
VERSION:2.0
CALSCALE:GREGORIAN
BEGIN:VEVENT
SUMMARY:Yoga swing - Aerial Yoga
DTSTART;TZID=Europe/Amsterdam:20251204T190000
DTEND;TZID=Europe/Amsterdam:20251204T201500
LOCATION:studio
DESCRIPTION: Heerlijk ondersteboven in de yogaswing , een les met leuke uitdagingen geschikt voor iedereen 

De les gaat door bij minimaal 5 aanmeldingen.
STATUS:CONFIRMED
SEQUENCE:0
END:VEVENT
END:VCALENDAR