BEGIN:VCALENDAR
VERSION:2.0
CALSCALE:GREGORIAN
BEGIN:VEVENT
SUMMARY:Yin Yoga  (Daniëlle)
DTSTART;TZID=Europe/Amsterdam:20260401T190000
DTEND;TZID=Europe/Amsterdam:20260401T200000
LOCATION:studio
DESCRIPTION: Een zeer milde, relaxte Yogales die we met bewuste aandacht (mindful) doen; ook een stukje yin yoga, meditatie is in deze les verweven.

De les gaat door bij minimaal 3 aanmeldingen.
STATUS:CONFIRMED
SEQUENCE:0
END:VEVENT
END:VCALENDAR