BEGIN:VCALENDAR
VERSION:2.0
CALSCALE:GREGORIAN
BEGIN:VEVENT
SUMMARY:Do-in Yoga met Hannelore
DTSTART;TZID=Europe/Amsterdam:20260414T173000
DTEND;TZID=Europe/Amsterdam:20260414T183000
LOCATION:
DESCRIPTION: Omschrijving
Do-in Yoga is een oosterse bewegingsleer met oefeningen die je gezondheid en vitaliteit bevorderen. Het is gericht op het krachtiger worden van lichaam en geest.
Do-in betekent “stroming van energie” en is gericht op het in balans brengen van Chi (levensenergie). In de bewegingen worden de meridianen gestekt. Hierdoor gaat de energie beter stromen en ondersteunt het je gezondheid en innerlijke balans.
Het is een combinatie van dynamiek en rustig en deze les is geschikt voor iedereen!

De les gaat door bij minimaal 3 deelnemers.
STATUS:CONFIRMED
SEQUENCE:0
END:VEVENT
END:VCALENDAR