BEGIN:VCALENDAR
VERSION:2.0
CALSCALE:GREGORIAN
BEGIN:VEVENT
SUMMARY:Ashtanga yoga - Mysore Special   (Gratis)
DTSTART;TZID=Europe/Amsterdam:20250909T201500
DTEND;TZID=Europe/Amsterdam:20250909T213000
LOCATION:Studio
DESCRIPTION: Een les voor iedereen met uitleg over hoe begin ik met (Ashtanga) yoga, wat is dat Mysore stijl en hoe begin ik met deze bor:van yoga.     Deelname is gratis
STATUS:CONFIRMED
SEQUENCE:0
END:VEVENT
END:VCALENDAR