BEGIN:VCALENDAR
VERSION:2.0
CALSCALE:GREGORIAN
BEGIN:VEVENT
SUMMARY:Aruna Open Live Class with Nicki Forman in Nof Yam
DTSTART;TZID=Asia/Jerusalem:20220926T093000
DTEND;TZID=Asia/Jerusalem:20220926T110000
LOCATION:Haeshel 13 Nof Yam (Please park on Shaar Ha&#039;am)
DESCRIPTION: 
STATUS:CONFIRMED
SEQUENCE:0
END:VEVENT
END:VCALENDAR