BEGIN:VCALENDAR
VERSION:2.0
CALSCALE:GREGORIAN
BEGIN:VEVENT
SUMMARY:Golden Yoga Master Class in Nof Yam
DTSTART;TZID=Asia/Jerusalem:20220519T100000
DTEND;TZID=Asia/Jerusalem:20220519T113000
LOCATION:Haeshel 13 Nof Yam (Please park on Shaar Hayam)
DESCRIPTION: Once a month Nicki is offering a live Golden Yoga masterclass!
Haeshel 13 Nof Yam (Please park on Shaar Ha&#039;am), Code to enter the gate 1121#
STATUS:CONFIRMED
SEQUENCE:0
END:VEVENT
END:VCALENDAR